BEGIN:VCALENDAR
VERSION:2.0
PRODID:-//jEvents 2.0 for Joomla//EN
CALSCALE:GREGORIAN
METHOD:PUBLISH
BEGIN:VEVENT
UID:662ab1cef93fe870f4e83027a48af10f
CATEGORIES:Trainingstermine
CREATED:20241206T092019
SUMMARY:Training Ehrwald
LOCATION:Wettersteinlifte Ehrwald
URL;VALUE=URI:https://www.ski-weilheim.de/index.php/termine/terminejvevent/eventdetail/76
 8/-/training-ehrwald?tmpl=component
DESCRIPTION:Slalom Training\nan den Wettersteinliften in Ehrwald\nbei schlechter Wetter
 lage Training am Hausberg\n Dieser Event wurde importiert von: https://www.
 ski-weilheim.de/index.php/termine/terminejvevent/eventdetail/768/-/training
 -ehrwald?tmpl=component (https://www.ski-weilheim.de/index.php/termine/term
 inejvevent/eventdetail/768/-/training-ehrwald?tmpl=component)
X-ALT-DESC;FMTTYPE=text/html:<p>Slalom Training</p><p>an den Wettersteinliften in Ehrwald</p><p>bei schl
 echter Wetterlage Training am Hausberg</p> <a href="https://www.ski-weilhei
 m.de/index.php/termine/terminejvevent/eventdetail/768/-/training-ehrwald?tm
 pl=component">Dieser Event wurde importiert von: https://www.ski-weilheim.d
 e/index.php/termine/terminejvevent/eventdetail/768/-/training-ehrwald?tmpl=
 component</a>DTSTAMP:20260421T052147
DTSTART:20250102T083000
DTEND:20250102T123000
SEQUENCE:0
TRANSP:OPAQUE
END:VEVENT
END:VCALENDAR