BEGIN:VCALENDAR
VERSION:2.0
PRODID:-//jEvents 2.0 for Joomla//EN
CALSCALE:GREGORIAN
METHOD:PUBLISH
BEGIN:VEVENT
UID:65cd1e144221dd100a3a62a3eb5ea177
CATEGORIES:Trainingstermine
CREATED:20241206T091932
SUMMARY:Training Ehrwald
LOCATION:Wettersteinlifte Ehrwald
URL;VALUE=URI:https://www.ski-weilheim.de/index.php/termine/terminejvevent/eventdetail/76
 7/-/training-ehrwald?tmpl=component
DESCRIPTION:Slalom Training\nan den Wettersteinliften in Ehrwald\nbei schlechter Wetter
 lage Training am Hausberg\n Dieser Event wurde importiert von: https://www.
 ski-weilheim.de/index.php/termine/terminejvevent/eventdetail/767/-/training
 -ehrwald?tmpl=component (https://www.ski-weilheim.de/index.php/termine/term
 inejvevent/eventdetail/767/-/training-ehrwald?tmpl=component)
X-ALT-DESC;FMTTYPE=text/html:<p>Slalom Training</p><p>an den Wettersteinliften in Ehrwald</p><p>bei schl
 echter Wetterlage Training am Hausberg</p> <a href="https://www.ski-weilhei
 m.de/index.php/termine/terminejvevent/eventdetail/767/-/training-ehrwald?tm
 pl=component">Dieser Event wurde importiert von: https://www.ski-weilheim.d
 e/index.php/termine/terminejvevent/eventdetail/767/-/training-ehrwald?tmpl=
 component</a>DTSTAMP:20260421T065313
DTSTART:20241229T083000
DTEND:20241229T123000
SEQUENCE:0
TRANSP:OPAQUE
END:VEVENT
END:VCALENDAR