BEGIN:VCALENDAR
VERSION:2.0
PRODID:-//jEvents 2.0 for Joomla//EN
CALSCALE:GREGORIAN
METHOD:PUBLISH
BEGIN:VEVENT
UID:d8e93cc2eb73ffbbe3e2cae36f177c42
CATEGORIES:Trainingstermine
CREATED:20241206T091841
SUMMARY:Training Ehrwald
LOCATION:Wettersteinlifte Ehrwald
URL;VALUE=URI:https://www.ski-weilheim.de/index.php/termine/terminejvevent/eventdetail/76
 5/-/training-ehrwald?tmpl=component
DESCRIPTION:Training Riesenslalom\nan den Wettersteinliften in Ehrwald\nbei schlechter 
 Wetterlage Training am Hausberg\n Dieser Event wurde importiert von: https:
 //www.ski-weilheim.de/index.php/termine/terminejvevent/eventdetail/765/-/tr
 aining-ehrwald?tmpl=component (https://www.ski-weilheim.de/index.php/termin
 e/terminejvevent/eventdetail/765/-/training-ehrwald?tmpl=component)
X-ALT-DESC;FMTTYPE=text/html:<p>Training Riesenslalom</p><p>an den Wettersteinliften in Ehrwald</p><p>be
 i schlechter Wetterlage Training am Hausberg</p> <a href="https://www.ski-w
 eilheim.de/index.php/termine/terminejvevent/eventdetail/765/-/training-ehrw
 ald?tmpl=component">Dieser Event wurde importiert von: https://www.ski-weil
 heim.de/index.php/termine/terminejvevent/eventdetail/765/-/training-ehrwald
 ?tmpl=component</a>DTSTAMP:20260421T110425
DTSTART:20241227T083000
DTEND:20241227T123000
SEQUENCE:0
TRANSP:OPAQUE
END:VEVENT
END:VCALENDAR