BEGIN:VCALENDAR
VERSION:2.0
PRODID:-//jEvents 2.0 for Joomla//EN
CALSCALE:GREGORIAN
METHOD:PUBLISH
BEGIN:VEVENT
UID:f9dc2dcb3578e219072fbaa9a6aa1539
CATEGORIES:Trainingstermine
CREATED:20241204T113837
SUMMARY:Training am Hausberg
LOCATION:Hausberg GAP
URL;VALUE=URI:https://www.ski-weilheim.de/index.php/termine/terminejvevent/eventdetail/76
 3/-/training-am-hausberg?tmpl=component
DESCRIPTION:<p>Training am Hausberg</p><p>ALLE Gruppen</p><p>Treffpunkt: 8:15 Uhr Hausb
 erg Talstation</p><p>Beginn: 8:30 Uhr</p><p>Ende: 12:30 Uhr</p> <a href="ht
 tps://www.ski-weilheim.de/index.php/termine/terminejvevent/eventdetail/763/
 -/training-am-hausberg?tmpl=component">Dieser Event wurde importiert von: h
 ttps://www.ski-weilheim.de/index.php/termine/terminejvevent/eventdetail/763
 /-/training-am-hausberg?tmpl=component</a>DTSTAMP:20260421T002402
DTSTART:20250222T083000
DTEND:20250222T123000
SEQUENCE:0
TRANSP:OPAQUE
END:VEVENT
END:VCALENDAR