BEGIN:VCALENDAR
VERSION:2.0
PRODID:-//jEvents 2.0 for Joomla//EN
CALSCALE:GREGORIAN
METHOD:PUBLISH
BEGIN:VEVENT
UID:f46f220e554c624342f9a4ca89044f54
CATEGORIES:Trainingstermine
CREATED:20241204T113413
SUMMARY:Training am Hausberg
LOCATION:Hausberg GAP
URL;VALUE=URI:https://www.ski-weilheim.de/index.php/termine/terminejvevent/eventdetail/76
 0/-/training-am-hausberg?tmpl=component
DESCRIPTION:<p>Training am Hausberg</p><p>ALLE Gruppen</p><p>Treffpunkt: 8:15 Uhr Hausb
 erg Talstation</p><p>Beginn: 8:30 Uhr</p><p>Ende: 12:30 Uhr</p> <a href="ht
 tps://www.ski-weilheim.de/index.php/termine/terminejvevent/eventdetail/760/
 -/training-am-hausberg?tmpl=component">Dieser Event wurde importiert von: h
 ttps://www.ski-weilheim.de/index.php/termine/terminejvevent/eventdetail/760
 /-/training-am-hausberg?tmpl=component</a>DTSTAMP:20260420T225514
DTSTART:20250118T083000
DTEND:20250118T123000
SEQUENCE:0
TRANSP:OPAQUE
END:VEVENT
END:VCALENDAR