BEGIN:VCALENDAR
VERSION:2.0
PRODID:-//jEvents 2.0 for Joomla//EN
CALSCALE:GREGORIAN
METHOD:PUBLISH
BEGIN:VEVENT
UID:64760851877b72e38707ee685c490cc9
CATEGORIES:Vereinsveranstaltung
CREATED:20170523T114216
SUMMARY:Trainerfortbildung Hintertux
URL;VALUE=URI:https://www.ski-weilheim.de/index.php/termine/terminejvevent/eventdetail/76
 /-/trainerfortbildung-hintertux?tmpl=component
DESCRIPTION:Nur für eingeladene Trainer.\n Dieser Event wurde importiert von: https://w
 ww.ski-weilheim.de/index.php/termine/terminejvevent/eventdetail/76/-/traine
 rfortbildung-hintertux?tmpl=component (https://www.ski-weilheim.de/index.ph
 p/termine/terminejvevent/eventdetail/76/-/trainerfortbildung-hintertux?tmpl
 =component)
X-ALT-DESC;FMTTYPE=text/html:<p>Nur für eingeladene Trainer.</p> <a href="https://www.ski-weilheim.de/in
 dex.php/termine/terminejvevent/eventdetail/76/-/trainerfortbildung-hintertu
 x?tmpl=component">Dieser Event wurde importiert von: https://www.ski-weilhe
 im.de/index.php/termine/terminejvevent/eventdetail/76/-/trainerfortbildung-
 hintertux?tmpl=component</a>DTSTAMP:20260421T071131
DTSTART:20171021T080000
DTEND:20171022T170000
SEQUENCE:0
TRANSP:OPAQUE
END:VEVENT
END:VCALENDAR