BEGIN:VCALENDAR
VERSION:2.0
PRODID:-//jEvents 2.0 for Joomla//EN
CALSCALE:GREGORIAN
METHOD:PUBLISH
BEGIN:VEVENT
UID:fce0a6daa1840033fad004e4e0c3976a
CATEGORIES:Trainingstermine
CREATED:20241204T103058
SUMMARY:Training am Hausberg
LOCATION:Hausberg GAP
URL;VALUE=URI:https://www.ski-weilheim.de/index.php/termine/terminejvevent/eventdetail/75
 8/-/training-am-hausberg?tmpl=component
DESCRIPTION:<p>Training am Hausberg</p><p>für alle die nicht am Kronplatz sind</p><p>Tr
 effpunkt: 8:15 Uhr Hausberg Talstation</p><p>Beginn: 8:30 Uhr</p><p>Ende: 1
 2:30 Uhr</p> <a href="https://www.ski-weilheim.de/index.php/termine/termine
 jvevent/eventdetail/758/-/training-am-hausberg?tmpl=component">Dieser Event
  wurde importiert von: https://www.ski-weilheim.de/index.php/termine/termin
 ejvevent/eventdetail/758/-/training-am-hausberg?tmpl=component</a>DTSTAMP:20260421T155836
DTSTART:20241221T083000
DTEND:20241221T123000
SEQUENCE:0
TRANSP:OPAQUE
END:VEVENT
END:VCALENDAR