BEGIN:VCALENDAR
VERSION:2.0
PRODID:-//jEvents 2.0 for Joomla//EN
CALSCALE:GREGORIAN
METHOD:PUBLISH
BEGIN:VEVENT
UID:0b4c22f22f05fcf98a63a393c9fb4af8
CATEGORIES:Trainingstermine
CREATED:20241204T093651
SUMMARY:Trainingslager Kronplatz
LOCATION:Kronplatz Südtirol
URL;VALUE=URI:https://www.ski-weilheim.de/index.php/termine/terminejvevent/eventdetail/75
 7/-/trainingslager-kronplatz?tmpl=component
DESCRIPTION:Trainingslager am Kronplatz\nvom 21.12. bis 23.12.24\n Dieser Event wurde i
 mportiert von: https://www.ski-weilheim.de/index.php/termine/terminejvevent
 /eventdetail/757/-/trainingslager-kronplatz?tmpl=component (https://www.ski
 -weilheim.de/index.php/termine/terminejvevent/eventdetail/757/-/trainingsla
 ger-kronplatz?tmpl=component)
X-ALT-DESC;FMTTYPE=text/html:<p>Trainingslager am Kronplatz</p><p>vom 21.12. bis 23.12.24</p> <a href="h
 ttps://www.ski-weilheim.de/index.php/termine/terminejvevent/eventdetail/757
 /-/trainingslager-kronplatz?tmpl=component">Dieser Event wurde importiert v
 on: https://www.ski-weilheim.de/index.php/termine/terminejvevent/eventdetai
 l/757/-/trainingslager-kronplatz?tmpl=component</a>DTSTAMP:20260421T100053
DTSTART:20241223T080000
DTEND:20241223T170000
SEQUENCE:0
TRANSP:OPAQUE
END:VEVENT
END:VCALENDAR