BEGIN:VCALENDAR
VERSION:2.0
PRODID:-//jEvents 2.0 for Joomla//EN
CALSCALE:GREGORIAN
METHOD:PUBLISH
BEGIN:VEVENT
UID:db8dfbeece6686e470212d3fc7b1702e
CATEGORIES:Trainingstermine
CREATED:20241204T093640
SUMMARY:Trainingslager Kronplatz
LOCATION:Kronplatz Südtirol
URL;VALUE=URI:https://www.ski-weilheim.de/index.php/termine/terminejvevent/eventdetail/75
 6/-/trainingslager-kronplatz?tmpl=component
DESCRIPTION:Trainingslager am Kronplatz\nvom 21.12. bis 23.12.24\n Dieser Event wurde i
 mportiert von: https://www.ski-weilheim.de/index.php/termine/terminejvevent
 /eventdetail/756/-/trainingslager-kronplatz?tmpl=component (https://www.ski
 -weilheim.de/index.php/termine/terminejvevent/eventdetail/756/-/trainingsla
 ger-kronplatz?tmpl=component)
X-ALT-DESC;FMTTYPE=text/html:<p>Trainingslager am Kronplatz</p><p>vom 21.12. bis 23.12.24</p> <a href="h
 ttps://www.ski-weilheim.de/index.php/termine/terminejvevent/eventdetail/756
 /-/trainingslager-kronplatz?tmpl=component">Dieser Event wurde importiert v
 on: https://www.ski-weilheim.de/index.php/termine/terminejvevent/eventdetai
 l/756/-/trainingslager-kronplatz?tmpl=component</a>DTSTAMP:20260421T141432
DTSTART:20241222T080000
DTEND:20241222T170000
SEQUENCE:0
TRANSP:OPAQUE
END:VEVENT
END:VCALENDAR