BEGIN:VCALENDAR
VERSION:2.0
PRODID:-//jEvents 2.0 for Joomla//EN
CALSCALE:GREGORIAN
METHOD:PUBLISH
BEGIN:VEVENT
UID:67057a93761fb3fc4bdfa9f393c25b74
CATEGORIES:Trainingstermine
CREATED:20241204T093621
SUMMARY:Trainingslager Kronplatz
LOCATION:Kronplatz Südtirol
URL;VALUE=URI:https://www.ski-weilheim.de/index.php/termine/terminejvevent/eventdetail/75
 5/-/trainingslager-kronplatz?tmpl=component
DESCRIPTION:Trainingslager am Kronplatz\nvom 21.12. bis 23.12.24\n Dieser Event wurde i
 mportiert von: https://www.ski-weilheim.de/index.php/termine/terminejvevent
 /eventdetail/755/-/trainingslager-kronplatz?tmpl=component (https://www.ski
 -weilheim.de/index.php/termine/terminejvevent/eventdetail/755/-/trainingsla
 ger-kronplatz?tmpl=component)
X-ALT-DESC;FMTTYPE=text/html:<p>Trainingslager am Kronplatz</p><p>vom 21.12. bis 23.12.24</p> <a href="h
 ttps://www.ski-weilheim.de/index.php/termine/terminejvevent/eventdetail/755
 /-/trainingslager-kronplatz?tmpl=component">Dieser Event wurde importiert v
 on: https://www.ski-weilheim.de/index.php/termine/terminejvevent/eventdetai
 l/755/-/trainingslager-kronplatz?tmpl=component</a>DTSTAMP:20260421T175622
DTSTART:20241221T090000
DTEND:20241221T160000
SEQUENCE:0
TRANSP:OPAQUE
END:VEVENT
END:VCALENDAR