BEGIN:VCALENDAR
VERSION:2.0
PRODID:-//jEvents 2.0 for Joomla//EN
CALSCALE:GREGORIAN
METHOD:PUBLISH
BEGIN:VEVENT
UID:ac7c9c42eb063afc14b69af5cd0e16e9
CATEGORIES:Trainingstermine
CREATED:20241204T093352
SUMMARY:Training Zugspitze
LOCATION:Zugspitze 
URL;VALUE=URI:https://www.ski-weilheim.de/index.php/termine/terminejvevent/eventdetail/75
 4/-/training-zugspitze?tmpl=component
DESCRIPTION:Skitraining auf der Zugspitze für ALLE Gruppen\nTreffpunkt 8:00 Uhr Zugspit
 zbahnhof Zahnradbahn\nTrainingsende ca 12:30 Uhr Zahnradbahnhof am Platt\n 
 \n \n Dieser Event wurde importiert von: https://www.ski-weilheim.de/index.
 php/termine/terminejvevent/eventdetail/754/-/training-zugspitze?tmpl=compon
 ent (https://www.ski-weilheim.de/index.php/termine/terminejvevent/eventdeta
 il/754/-/training-zugspitze?tmpl=component)
X-ALT-DESC;FMTTYPE=text/html:<p>Skitraining auf der Zugspitze für ALLE Gruppen</p><p>Treffpunkt 8:00 Uhr
  Zugspitzbahnhof Zahnradbahn</p><p>Trainingsende ca 12:30 Uhr Zahnradbahnho
 f am Platt</p><p>&nbsp;</p><p>&nbsp;</p> <a href="https://www.ski-weilheim.
 de/index.php/termine/terminejvevent/eventdetail/754/-/training-zugspitze?tm
 pl=component">Dieser Event wurde importiert von: https://www.ski-weilheim.d
 e/index.php/termine/terminejvevent/eventdetail/754/-/training-zugspitze?tmp
 l=component</a>DTSTAMP:20260421T084107
DTSTART:20241214T080000
DTEND:20241214T123000
SEQUENCE:0
TRANSP:OPAQUE
END:VEVENT
END:VCALENDAR