BEGIN:VCALENDAR
VERSION:2.0
PRODID:-//jEvents 2.0 for Joomla//EN
CALSCALE:GREGORIAN
METHOD:PUBLISH
BEGIN:VEVENT
UID:0997bc98f5d157b0ed9b9475459e6103
CATEGORIES:Trainingstermine
CREATED:20241204T093200
SUMMARY:Training Zugspitze
LOCATION:Zugspitze 
URL;VALUE=URI:https://www.ski-weilheim.de/index.php/termine/terminejvevent/eventdetail/75
 3/-/training-zugspitze?tmpl=component
DESCRIPTION:<p>Skitraining auf der Zugspitze für ALLE Gruppen</p><p>Treffpunkt 8:00 Uhr
  Zugspitzbahnhof Zahnradbahn</p><p>Trainingsende ca 12:30 Uhr Zugspitzbahnh
 of am Platt</p><p>&nbsp;</p><p>&nbsp;</p> <a href="https://www.ski-weilheim
 .de/index.php/termine/terminejvevent/eventdetail/753/-/training-zugspitze?t
 mpl=component">Dieser Event wurde importiert von: https://www.ski-weilheim.
 de/index.php/termine/terminejvevent/eventdetail/753/-/training-zugspitze?tm
 pl=component</a>DTSTAMP:20260421T091047
DTSTART:20241207T074500
DTEND:20241207T130000
SEQUENCE:0
TRANSP:OPAQUE
END:VEVENT
END:VCALENDAR