BEGIN:VCALENDAR
VERSION:2.0
PRODID:-//jEvents 2.0 for Joomla//EN
CALSCALE:GREGORIAN
METHOD:PUBLISH
BEGIN:VEVENT
UID:5a38a5bf8637c7b6623b5f76d96777ac
CATEGORIES:Kinderrennen
CREATED:20241204T092719
SUMMARY:Werdenfelser Kinderskitag
LOCATION:Garmisch Partenkirchen
URL;VALUE=URI:https://www.ski-weilheim.de/index.php/termine/terminejvevent/eventdetail/75
 2/-/werdenfelser-kinderskitag?tmpl=component
DESCRIPTION:Werdenfelser Kinderskitag\nFür  die Jahrgänge 2020 bis 2009\nEine Doppelmel
 dung für BZB und Werdenfelser Kinderskitag ist nicht möglich\nAlle Details 
 und Uhrzeiten findet ihr in der Ausschreibung unter rennmeldung.de\nGenaue 
 Informationen zum Treffpunkt bekommt ihr noch kurzfristig\n \n Dieser Event
  wurde importiert von: https://www.ski-weilheim.de/index.php/termine/termin
 ejvevent/eventdetail/752/-/werdenfelser-kinderskitag?tmpl=component (https:
 //www.ski-weilheim.de/index.php/termine/terminejvevent/eventdetail/752/-/we
 rdenfelser-kinderskitag?tmpl=component)
X-ALT-DESC;FMTTYPE=text/html:<p><em><strong>Werdenfelser Kinderskitag</strong></em></p><p><em>Für&nbsp; 
 die </em>Jahrgänge 2020 bis 2009</p><p>Eine Doppelmeldung für BZB und Werde
 nfelser Kinderskitag ist nicht möglich</p><p>Alle Details und Uhrzeiten fin
 det ihr in der Ausschreibung unter rennmeldung.de</p><p>Genaue Informatione
 n zum Treffpunkt bekommt ihr noch kurzfristig</p><p>&nbsp;</p> <a href="htt
 ps://www.ski-weilheim.de/index.php/termine/terminejvevent/eventdetail/752/-
 /werdenfelser-kinderskitag?tmpl=component">Dieser Event wurde importiert vo
 n: https://www.ski-weilheim.de/index.php/termine/terminejvevent/eventdetail
 /752/-/werdenfelser-kinderskitag?tmpl=component</a>X-EXTRAINFO:anmelden (index.php/?option=com_visforms&amp;view=visforms&amp;id=9&amp;for
 m9rennendatum=23.03.2025&amp;form9nenngeld=14&amp;form9rennenname=Werdenfel
 ser Kinderskitag)
DTSTAMP:20260421T002224
DTSTART;VALUE=DATE:20250323
DTEND;VALUE=DATE:20250324
SEQUENCE:0
TRANSP:OPAQUE
END:VEVENT
END:VCALENDAR