BEGIN:VCALENDAR
VERSION:2.0
PRODID:-//jEvents 2.0 for Joomla//EN
CALSCALE:GREGORIAN
METHOD:PUBLISH
BEGIN:VEVENT
UID:daf4d30f1be9daa34a37444c8b403a52
CATEGORIES:Kreiscup
CREATED:20241204T092427
SUMMARY:1. Kreiscup
LOCATION:Gschwandtkopf Seefeld
URL;VALUE=URI:https://www.ski-weilheim.de/index.php/termine/terminejvevent/eventdetail/75
 1/-/1-kreiscup?tmpl=component
DESCRIPTION:<p>Riesenslalom in Seefeld</p><p>Start: 10:00 Uhr</p><p>Besichtigung: 9:00 
 - 9:30 Uhr</p><p>Liftbetrieb ab 8:30 Uhr</p><p>Veranstalter SC Penzberg</p>
 <p>&nbsp;</p><p>&nbsp;</p><p>&nbsp;</p> <a href="https://www.ski-weilheim.d
 e/index.php/termine/terminejvevent/eventdetail/751/-/1-kreiscup?tmpl=compon
 ent">Dieser Event wurde importiert von: https://www.ski-weilheim.de/index.p
 hp/termine/terminejvevent/eventdetail/751/-/1-kreiscup?tmpl=component</a>X-EXTRAINFO:anmelden (index.php/?option=com_visforms&amp;view=visforms&amp;id=9&amp;for
 m9rennendatum=02.02.2025&amp;form9rennenname=1. Kreiscup&amp;form9nenngeld=
 12)
DTSTAMP:20260421T042343
DTSTART;VALUE=DATE:20250202
DTEND;VALUE=DATE:20250203
SEQUENCE:0
TRANSP:OPAQUE
END:VEVENT
END:VCALENDAR