BEGIN:VCALENDAR
VERSION:2.0
PRODID:-//jEvents 2.0 for Joomla//EN
CALSCALE:GREGORIAN
METHOD:PUBLISH
BEGIN:VEVENT
UID:c56f237bc04a59c49ae5950175ff8c1d
CATEGORIES:Kreiscup
CREATED:20241204T092229
SUMMARY:4. Kreiscup
LOCATION:Huasberg Garmisch Partenkirchen
URL;VALUE=URI:https://www.ski-weilheim.de/index.php/termine/terminejvevent/eventdetail/75
 0/-/4-kreiscup?tmpl=component
DESCRIPTION:Riesenslalom am Kreuzwankl\nVeranstalter TSV Weilheim\n Dieser Event wurde 
 importiert von: https://www.ski-weilheim.de/index.php/termine/terminejveven
 t/eventdetail/750/-/4-kreiscup?tmpl=component (https://www.ski-weilheim.de/
 index.php/termine/terminejvevent/eventdetail/750/-/4-kreiscup?tmpl=componen
 t)
X-ALT-DESC;FMTTYPE=text/html:<p>Riesenslalom am Kreuzwankl</p><p>Veranstalter TSV Weilheim</p> <a href="
 https://www.ski-weilheim.de/index.php/termine/terminejvevent/eventdetail/75
 0/-/4-kreiscup?tmpl=component">Dieser Event wurde importiert von: https://w
 ww.ski-weilheim.de/index.php/termine/terminejvevent/eventdetail/750/-/4-kre
 iscup?tmpl=component</a>X-EXTRAINFO:anmelden (index.php/?option=com_visforms&amp;view=visforms&amp;id=9&amp;for
 m9rennendatum=22.03.2025&amp;form9rennenname=4. Kreiscup&amp;form9nenngeld=
 12)
DTSTAMP:20260421T001820
DTSTART:20250322T080000
DTEND:20250322T170000
SEQUENCE:0
TRANSP:OPAQUE
END:VEVENT
END:VCALENDAR