BEGIN:VCALENDAR
VERSION:2.0
PRODID:-//jEvents 2.0 for Joomla//EN
CALSCALE:GREGORIAN
METHOD:PUBLISH
BEGIN:VEVENT
UID:72083e2c9c3c3d85df9f25a5a14e5ea3
CATEGORIES:Vereinsveranstaltung
CREATED:20170425T113002
SUMMARY:Herbstwanderung
URL;VALUE=URI:https://www.ski-weilheim.de/index.php/termine/terminejvevent/eventdetail/75
 /-/herbstwanderung?tmpl=component
DESCRIPTION: Dieser Event wurde importiert von: https://www.ski-weilheim.de/index.php/t
 ermine/terminejvevent/eventdetail/75/-/herbstwanderung?tmpl=component (http
 s://www.ski-weilheim.de/index.php/termine/terminejvevent/eventdetail/75/-/h
 erbstwanderung?tmpl=component)
X-ALT-DESC;FMTTYPE=text/html: <a href="https://www.ski-weilheim.de/index.php/termine/terminejvevent/even
 tdetail/75/-/herbstwanderung?tmpl=component">Dieser Event wurde importiert 
 von: https://www.ski-weilheim.de/index.php/termine/terminejvevent/eventdeta
 il/75/-/herbstwanderung?tmpl=component</a>DTSTAMP:20260421T042908
DTSTART:20170916T080000
DTEND:20170916T170000
SEQUENCE:0
TRANSP:OPAQUE
END:VEVENT
END:VCALENDAR