BEGIN:VCALENDAR
VERSION:2.0
PRODID:-//jEvents 2.0 for Joomla//EN
CALSCALE:GREGORIAN
METHOD:PUBLISH
BEGIN:VEVENT
UID:a50d5eb8288301ff76732c8e0b51a252
CATEGORIES:Zienercup
CREATED:20241204T092027
SUMMARY:2. Ziener-Cup
LOCATION: Kranzberg Mittenwald
URL;VALUE=URI:https://www.ski-weilheim.de/index.php/termine/terminejvevent/eventdetail/74
 9/-/2-ziener-cup?tmpl=component
DESCRIPTION:<p>2. Ziener-Cup</p><p>Night Race Slalom in Mittenwald</p><p>Ausrichter SC 
 Mittenwald</p><p>für die Jahrgänge 2017 bis 2013</p><p>Beginn ab 16:45 Uhr<
 /p><p>&nbsp;</p><p>&nbsp;</p><p>&nbsp;</p><p>&nbsp;</p> <a href="https://ww
 w.ski-weilheim.de/index.php/termine/terminejvevent/eventdetail/749/-/2-zien
 er-cup?tmpl=component">Dieser Event wurde importiert von: https://www.ski-w
 eilheim.de/index.php/termine/terminejvevent/eventdetail/749/-/2-ziener-cup?
 tmpl=component</a>X-EXTRAINFO:anmelden (index.php/?option=com_visforms&amp;view=visforms&amp;id=9&amp;for
 m9rennendatum=18.01.2025&amp;form9nenngeld=12&amp;form9rennenname=2. Ziener
 cup)
DTSTAMP:20260421T005950
DTSTART;VALUE=DATE:20250118
DTEND;VALUE=DATE:20250119
SEQUENCE:0
TRANSP:OPAQUE
END:VEVENT
END:VCALENDAR