BEGIN:VCALENDAR
VERSION:2.0
PRODID:-//jEvents 2.0 for Joomla//EN
CALSCALE:GREGORIAN
METHOD:PUBLISH
BEGIN:VEVENT
UID:30f3949bb54863008b879a01e202bc67
CATEGORIES:Zienercup
CREATED:20241204T091951
SUMMARY:1. Ziener-Cup
LOCATION:Lermoos Tirol
URL;VALUE=URI:https://www.ski-weilheim.de/index.php/termine/terminejvevent/eventdetail/74
 8/-/1-ziener-cup?tmpl=component
DESCRIPTION:<p>1. Ziener-Cup</p><p>Riesenslalom in Lermoos</p><p>Waldabfahrt</p><p>für 
 die Jahrgänge 2017 bis 2013</p><p>Ausrichter TSV Tutzing</p><p>&nbsp;</p><p
 >&nbsp;</p><p>&nbsp;</p><p>&nbsp;</p> <a href="https://www.ski-weilheim.de/
 index.php/termine/terminejvevent/eventdetail/748/-/1-ziener-cup?tmpl=compon
 ent">Dieser Event wurde importiert von: https://www.ski-weilheim.de/index.p
 hp/termine/terminejvevent/eventdetail/748/-/1-ziener-cup?tmpl=component</a>X-EXTRAINFO:anmelden (index.php/?option=com_visforms&amp;view=visforms&amp;id=9&amp;for
 m9rennendatum=11.01.2025&amp;form9nenngeld=12&amp;form9rennenname=1. Ziener
 cup)
DTSTAMP:20260421T024929
DTSTART;VALUE=DATE:20250112
DTEND;VALUE=DATE:20250113
SEQUENCE:0
TRANSP:OPAQUE
END:VEVENT
END:VCALENDAR