BEGIN:VCALENDAR
VERSION:2.0
PRODID:-//jEvents 2.0 for Joomla//EN
CALSCALE:GREGORIAN
METHOD:PUBLISH
BEGIN:VEVENT
UID:7cea736f46ce49be26cdfcb65e9ee6d1
CATEGORIES:BZB-Cup
CREATED:20241204T091821
SUMMARY:2. BZB-Cup
LOCATION:Kühtai / Tirol
URL;VALUE=URI:https://www.ski-weilheim.de/index.php/termine/terminejvevent/eventdetail/74
 7/-/2-bzb-cup?tmpl=component
DESCRIPTION:2. BZB Rennen\nSlalom in Kühtai am Alpenrosenlift\n \nInterner Meldeschluss
  Mittwoch 2.1. 18:00 Uhr\n Dieser Event wurde importiert von: https://www.s
 ki-weilheim.de/index.php/termine/terminejvevent/eventdetail/747/-/2-bzb-cup
 ?tmpl=component (https://www.ski-weilheim.de/index.php/termine/terminejveve
 nt/eventdetail/747/-/2-bzb-cup?tmpl=component)
X-ALT-DESC;FMTTYPE=text/html:<p>2. BZB Rennen</p><p>Slalom in Kühtai am Alpenrosenlift</p><p>&nbsp;</p><
 p>Interner Meldeschluss Mittwoch 2.1. 18:00 Uhr</p> <a href="https://www.sk
 i-weilheim.de/index.php/termine/terminejvevent/eventdetail/747/-/2-bzb-cup?
 tmpl=component">Dieser Event wurde importiert von: https://www.ski-weilheim
 .de/index.php/termine/terminejvevent/eventdetail/747/-/2-bzb-cup?tmpl=compo
 nent</a>X-EXTRAINFO:anmelden (index.php/?option=com_visforms&amp;view=visforms&amp;id=9&amp;for
 m9rennendatum=06.01.2025&amp;form9nenngeld=14&amp;form9rennenname=2. BZB SL
  )
DTSTAMP:20260421T021601
DTSTART;VALUE=DATE:20250106
DTEND;VALUE=DATE:20250107
SEQUENCE:0
TRANSP:OPAQUE
END:VEVENT
END:VCALENDAR