BEGIN:VCALENDAR
VERSION:2.0
PRODID:-//jEvents 2.0 for Joomla//EN
CALSCALE:GREGORIAN
METHOD:PUBLISH
BEGIN:VEVENT
UID:6a95cb16ea15831f6105fa700f439ef0
CATEGORIES:BZB-Cup
CREATED:20241204T091731
SUMMARY:1. BZB-Cup
LOCATION:Kühtai / Tirol
URL;VALUE=URI:https://www.ski-weilheim.de/index.php/termine/terminejvevent/eventdetail/74
 6/-/1-bzb-cup?tmpl=component
DESCRIPTION:<p>1. BZB Rennen</p><p>Riesenslalom in Kühtai am Alpenrosenlift</p><p>Inter
 ner Meldeschluss Mittwoch 02.01.22</p> <a href="https://www.ski-weilheim.de
 /index.php/termine/terminejvevent/eventdetail/746/-/1-bzb-cup?tmpl=componen
 t">Dieser Event wurde importiert von: https://www.ski-weilheim.de/index.php
 /termine/terminejvevent/eventdetail/746/-/1-bzb-cup?tmpl=component</a>X-EXTRAINFO:anmelden (index.php/?option=com_visforms&amp;view=visforms&amp;id=9&amp;for
 m9rennendatum=05.01.2025&amp;form9nenngeld=14&amp;form9rennenname=1. BZB RS
  )
DTSTAMP:20260421T013827
DTSTART;VALUE=DATE:20250105
DTEND;VALUE=DATE:20250106
SEQUENCE:0
TRANSP:OPAQUE
END:VEVENT
END:VCALENDAR