BEGIN:VCALENDAR
VERSION:2.0
PRODID:-//jEvents 2.0 for Joomla//EN
CALSCALE:GREGORIAN
METHOD:PUBLISH
BEGIN:VEVENT
UID:e1ed6499975c14a0c109b73df897f896
CATEGORIES:Vereinsveranstaltung
CREATED:20241204T091623
SUMMARY:Vereinsmeisterschaft TSV Weilheim
LOCATION:Kreuzwankl / GAP
URL;VALUE=URI:https://www.ski-weilheim.de/index.php/termine/terminejvevent/eventdetail/74
 5/-/vereinsmeisterschaft-tsv-weilheim?tmpl=component
DESCRIPTION:Riesenslalom am Kreuzwankl\n \nfür alle Vereinsmitglieder des TSV Weilheim\
 nKeine Startgebühr\nund gesonderte Wertung für Teilnehmer des TSV Skikurses
 \n \nBei der Vereinsmeisterschaft sind alle Vereinsmitglieder startberechti
 gt, Kinder und Erwachsene.\n Dieser Event wurde importiert von: https://www
 .ski-weilheim.de/index.php/termine/terminejvevent/eventdetail/745/-/vereins
 meisterschaft-tsv-weilheim?tmpl=component (https://www.ski-weilheim.de/inde
 x.php/termine/terminejvevent/eventdetail/745/-/vereinsmeisterschaft-tsv-wei
 lheim?tmpl=component)
X-ALT-DESC;FMTTYPE=text/html:<p>Riesenslalom am Kreuzwankl</p><p>&nbsp;</p><p>für alle Vereinsmitglieder
  des TSV Weilheim</p><p>Keine Startgebühr</p><p>und gesonderte Wertung für 
 Teilnehmer des TSV Skikurses</p><p>&nbsp;</p><p>Bei der Vereinsmeisterschaf
 t sind alle Vereinsmitglieder startberechtigt, Kinder und Erwachsene.</p> <
 a href="https://www.ski-weilheim.de/index.php/termine/terminejvevent/eventd
 etail/745/-/vereinsmeisterschaft-tsv-weilheim?tmpl=component">Dieser Event 
 wurde importiert von: https://www.ski-weilheim.de/index.php/termine/termine
 jvevent/eventdetail/745/-/vereinsmeisterschaft-tsv-weilheim?tmpl=component<
 /a>X-EXTRAINFO:anmelden (index.php/?option=com_visforms&amp;view=visforms&amp;id=9&amp;for
 m9rennendatum=25.01.2025&amp;form9rennenname=Vereinsmeisterschaft 2025&amp;
 )
DTSTAMP:20260420T224749
DTSTART;VALUE=DATE:20250125
DTEND;VALUE=DATE:20250126
SEQUENCE:0
TRANSP:OPAQUE
END:VEVENT
END:VCALENDAR