BEGIN:VCALENDAR
VERSION:2.0
PRODID:-//jEvents 2.0 for Joomla//EN
CALSCALE:GREGORIAN
METHOD:PUBLISH
BEGIN:VEVENT
UID:a75accbb7f87c8d2d892d4fcb82572d8
CATEGORIES:Trainingstermine
CREATED:20240910T114108
SUMMARY:Kraft- und Koordinationstraining mit Béla
LOCATION:Kraftraum TSV Weilheim
URL;VALUE=URI:https://www.ski-weilheim.de/index.php/termine/terminejvevent/eventdetail/74
 4/-/kraft-und-koordinationstraining-mit-bela?tmpl=component
DESCRIPTION:Kraft- und Koordinationstraining \n\n \nFür die Jahrgänge 2012 und älter\n\
 nTeilnehmerzahl auf maximal 10 Personen begrenzt\n\n Training von 16.00 Uhr
  bis 18:00 Uhr\n  Dieser Event wurde importiert von: https://www.ski-weilhe
 im.de/index.php/termine/terminejvevent/eventdetail/744/-/kraft-und-koordina
 tionstraining-mit-bela?tmpl=component (https://www.ski-weilheim.de/index.ph
 p/termine/terminejvevent/eventdetail/744/-/kraft-und-koordinationstraining-
 mit-bela?tmpl=component)
X-ALT-DESC;FMTTYPE=text/html:<p><strong><strong>Kraft- und Koordinationstraining <br /></strong></strong
 ></p><p>&nbsp;</p><p><strong>Für die Jahrgänge 2012 und älter<br /></strong
 ></p><p><strong>Teilnehmerzahl auf maximal 10 Personen begrenzt<br /></stro
 ng></p><p>&nbsp;Training von 16.00 Uhr bis 18:00 Uhr</p><div class="jev_evd
 t_desc">&nbsp;</div> <a href="https://www.ski-weilheim.de/index.php/termine
 /terminejvevent/eventdetail/744/-/kraft-und-koordinationstraining-mit-bela?
 tmpl=component">Dieser Event wurde importiert von: https://www.ski-weilheim
 .de/index.php/termine/terminejvevent/eventdetail/744/-/kraft-und-koordinati
 onstraining-mit-bela?tmpl=component</a>X-EXTRAINFO:jetzt zum Training anmelden (index.php/?option=com_visforms&amp;view=visfor
 ms&amp;id=6&amp;form6datumtraining=14.09.2024&amp;form6typtraining=Skitrain
 ing)
DTSTAMP:20260422T004539
DTSTART:20240914T160000
DTEND:20240914T180000
SEQUENCE:0
TRANSP:OPAQUE
END:VEVENT
END:VCALENDAR