BEGIN:VCALENDAR
VERSION:2.0
PRODID:-//jEvents 2.0 for Joomla//EN
CALSCALE:GREGORIAN
METHOD:PUBLISH
BEGIN:VEVENT
UID:a389861095e08917ed22e42c0583a430
CATEGORIES:Trainingstermine
CREATED:20240624T150916
SUMMARY:Kraft- und Koordinationstraining mit Béla
LOCATION:Kraftraum TSV Weilheim
URL;VALUE=URI:https://www.ski-weilheim.de/index.php/termine/terminejvevent/eventdetail/74
 2/-/kraft-und-koordinationstraining-mit-bela?tmpl=component
DESCRIPTION:<p><strong><strong>Kraft- und Koordinationstraining <br /></strong></strong
 ></p><p>&nbsp;</p><p><strong>Für die Jahrgänge 2012 und älter<br /></strong
 ></p><p><strong>Teilnehmerzahl auf maximal 10 Personen begrenzt<br /></stro
 ng></p><p>&nbsp;Training von 11.00 Uhr bis 13:00 Uhr</p><div class="jev_evd
 t_desc">&nbsp;</div> <a href="https://www.ski-weilheim.de/index.php/termine
 /terminejvevent/eventdetail/742/-/kraft-und-koordinationstraining-mit-bela?
 tmpl=component">Dieser Event wurde importiert von: https://www.ski-weilheim
 .de/index.php/termine/terminejvevent/eventdetail/742/-/kraft-und-koordinati
 onstraining-mit-bela?tmpl=component</a>X-EXTRAINFO:jetzt zum Training anmelden (index.php/?option=com_visforms&amp;view=visfor
 ms&amp;id=6&amp;form6datumtraining=29.06.2024&amp;form6typtraining=Skitrain
 ing)
DTSTAMP:20260421T082828
DTSTART:20240629T110000
DTEND:20240629T130000
SEQUENCE:0
TRANSP:OPAQUE
END:VEVENT
END:VCALENDAR