BEGIN:VCALENDAR
VERSION:2.0
PRODID:-//jEvents 2.0 for Joomla//EN
CALSCALE:GREGORIAN
METHOD:PUBLISH
BEGIN:VEVENT
UID:cb95e7808b17c0860df3776c540d2e90
CATEGORIES:Kreiscup
CREATED:20240311T091620
SUMMARY:4. Kreiscup
LOCATION:Garmisch Partenkirchen
URL;VALUE=URI:https://www.ski-weilheim.de/index.php/termine/terminejvevent/eventdetail/73
 4/-/4-kreiscup?tmpl=component
DESCRIPTION:Riesenslalom auf der Kandahar\nVeranstalter TSV Weilheim\n Dieser Event wur
 de importiert von: https://www.ski-weilheim.de/index.php/termine/terminejve
 vent/eventdetail/734/-/4-kreiscup?tmpl=component (https://www.ski-weilheim.
 de/index.php/termine/terminejvevent/eventdetail/734/-/4-kreiscup?tmpl=compo
 nent)
X-ALT-DESC;FMTTYPE=text/html:<p>Riesenslalom auf der Kandahar</p><p>Veranstalter TSV Weilheim</p> <a hre
 f="https://www.ski-weilheim.de/index.php/termine/terminejvevent/eventdetail
 /734/-/4-kreiscup?tmpl=component">Dieser Event wurde importiert von: https:
 //www.ski-weilheim.de/index.php/termine/terminejvevent/eventdetail/734/-/4-
 kreiscup?tmpl=component</a>X-EXTRAINFO:anmelden (index.php/?option=com_visforms&amp;view=visforms&amp;id=9&amp;for
 m9rennendatum=17.03.2024&amp;form9rennenname=4. Kreiscup&amp;form9nenngeld=
 12)
DTSTAMP:20260421T115310
DTSTART;VALUE=DATE:20240317
DTEND;VALUE=DATE:20240318
SEQUENCE:0
TRANSP:OPAQUE
END:VEVENT
END:VCALENDAR