BEGIN:VCALENDAR
VERSION:2.0
PRODID:-//jEvents 2.0 for Joomla//EN
CALSCALE:GREGORIAN
METHOD:PUBLISH
BEGIN:VEVENT
UID:5892300633b43b6fbd4234deb39fd271
CATEGORIES:Zienercup
CREATED:20240222T174726
SUMMARY:Ziener-Cup Finale
LOCATION:Garmisch Classic
URL;VALUE=URI:https://www.ski-weilheim.de/index.php/termine/terminejvevent/eventdetail/73
 3/-/ziener-cup-finale?tmpl=component
DESCRIPTION:Ziener-Cup Finale\nParallelslalom am Trögllift\nfür die Jahrgänge 2016 bis 
 2012\n \n \n \n \n Dieser Event wurde importiert von: https://www.ski-weilh
 eim.de/index.php/termine/terminejvevent/eventdetail/733/-/ziener-cup-finale
 ?tmpl=component (https://www.ski-weilheim.de/index.php/termine/terminejveve
 nt/eventdetail/733/-/ziener-cup-finale?tmpl=component)
X-ALT-DESC;FMTTYPE=text/html:<p>Ziener-Cup Finale</p><p>Parallelslalom am Trögllift</p><p>für die Jahrgä
 nge 2016 bis 2012</p><p>&nbsp;</p><p>&nbsp;</p><p>&nbsp;</p><p>&nbsp;</p> <
 a href="https://www.ski-weilheim.de/index.php/termine/terminejvevent/eventd
 etail/733/-/ziener-cup-finale?tmpl=component">Dieser Event wurde importiert
  von: https://www.ski-weilheim.de/index.php/termine/terminejvevent/eventdet
 ail/733/-/ziener-cup-finale?tmpl=component</a>X-EXTRAINFO:anmelden (index.php/?option=com_visforms&amp;view=visforms&amp;id=9&amp;for
 m9rennendatum=29.03.2024&amp;form9nenngeld=14&amp;form9rennenname=Zienercup
  Finale)
DTSTAMP:20260421T152809
DTSTART;VALUE=DATE:20240329
DTEND;VALUE=DATE:20240330
SEQUENCE:0
TRANSP:OPAQUE
END:VEVENT
END:VCALENDAR