BEGIN:VCALENDAR
VERSION:2.0
PRODID:-//jEvents 2.0 for Joomla//EN
CALSCALE:GREGORIAN
METHOD:PUBLISH
BEGIN:VEVENT
UID:bd1892e883c34e6ecbeb2066ca302b25
CATEGORIES:BZB-Cup
CREATED:20240222T174525
SUMMARY:BZB-Cup Finale
LOCATION:Garmisch Classic
URL;VALUE=URI:https://www.ski-weilheim.de/index.php/termine/terminejvevent/eventdetail/73
 2/-/bzb-cup-finale?tmpl=component
DESCRIPTION:<p>BZB Finale</p><p>Parallelslalom am Trögllift</p><p>Interner Meldeschluss
 : 26.03.&nbsp; 18:00 Uhr</p> <a href="https://www.ski-weilheim.de/index.php
 /termine/terminejvevent/eventdetail/732/-/bzb-cup-finale?tmpl=component">Di
 eser Event wurde importiert von: https://www.ski-weilheim.de/index.php/term
 ine/terminejvevent/eventdetail/732/-/bzb-cup-finale?tmpl=component</a>X-EXTRAINFO:anmelden (index.php/?option=com_visforms&amp;view=visforms&amp;id=9&amp;for
 m9rennendatum=30.03.2024&amp;form9nenngeld=14&amp;form9rennenname=BZB Final
 e )
DTSTAMP:20260421T083904
DTSTART;VALUE=DATE:20240330
DTEND;VALUE=DATE:20240331
SEQUENCE:0
TRANSP:OPAQUE
END:VEVENT
END:VCALENDAR