BEGIN:VCALENDAR
VERSION:2.0
PRODID:-//jEvents 2.0 for Joomla//EN
CALSCALE:GREGORIAN
METHOD:PUBLISH
BEGIN:VEVENT
UID:41c258347f6e44e82595c45aba6798c5
CATEGORIES:Zienercup
CREATED:20240219T165018
SUMMARY:8. & 9. Ziener-Cup
LOCATION:Kühtai Alpenrosenlift
URL;VALUE=URI:https://www.ski-weilheim.de/index.php/termine/terminejvevent/eventdetail/73
 1/-/8-9-ziener-cup?tmpl=component
DESCRIPTION:8. &amp; 9. Ziener-Cup im Kühtai\nVielseitigkeitsslalom\n2 Rennen für Jahrg
 änge 2015/16\n2 Rennen für die Jahrgänge 2012/13/14\n \n \n \n \n Dieser Ev
 ent wurde importiert von: https://www.ski-weilheim.de/index.php/termine/ter
 minejvevent/eventdetail/731/-/8-9-ziener-cup?tmpl=component
X-ALT-DESC;FMTTYPE=text/html:<p>8. &amp; 9. Ziener-Cup im Kühtai</p><p>Vielseitigkeitsslalom</p><p>2 Ren
 nen für Jahrgänge 2015/16</p><p><span style="caret-color: auto;">2 Rennen f
 ür die Jahrgänge 2012/13/14</span></p><p>&nbsp;</p><p>&nbsp;</p><p>&nbsp;</
 p><p>&nbsp;</p> <a href="https://www.ski-weilheim.de/index.php/termine/term
 inejvevent/eventdetail/731/-/8-9-ziener-cup?tmpl=component">Dieser Event wu
 rde importiert von: https://www.ski-weilheim.de/index.php/termine/terminejv
 event/eventdetail/731/-/8-9-ziener-cup?tmpl=component</a>X-EXTRAINFO:anmelden (index.php/?option=com_visforms&amp;view=visforms&amp;id=9&amp;for
 m9rennendatum=25.02.2024&amp;form9nenngeld=14&amp;form9rennenname=8. Ziener
 cup)
DTSTAMP:20260422T004529
DTSTART;VALUE=DATE:20240225
DTEND;VALUE=DATE:20240226
SEQUENCE:0
TRANSP:OPAQUE
END:VEVENT
END:VCALENDAR