BEGIN:VCALENDAR
VERSION:2.0
PRODID:-//jEvents 2.0 for Joomla//EN
CALSCALE:GREGORIAN
METHOD:PUBLISH
BEGIN:VEVENT
UID:af28a31bb5a0fc5595f0dc3fb2af401b
CATEGORIES:Zienercup
CREATED:20240219T164801
SUMMARY:6. & 7. Ziener-Cup
LOCATION:Kühtai Alpenrosenlift
URL;VALUE=URI:https://www.ski-weilheim.de/index.php/termine/terminejvevent/eventdetail/73
 0/-/6-7-ziener-cup?tmpl=component
DESCRIPTION:6. &amp; 7. Ziener-Cup im Kühtai\nRiesenslalom\n2 Rennen für alle Ziener Ja
 hrgänge \n \n \n \n \n Dieser Event wurde importiert von: https://www.ski-w
 eilheim.de/index.php/termine/terminejvevent/eventdetail/730/-/6-7-ziener-cu
 p?tmpl=component (https://www.ski-weilheim.de/index.php/termine/terminejvev
 ent/eventdetail/730/-/6-7-ziener-cup?tmpl=component)
X-ALT-DESC;FMTTYPE=text/html:<p>6. &amp; 7. Ziener-Cup im Kühtai</p><p>Riesenslalom</p><p>2 Rennen für a
 lle Ziener Jahrgänge </p><p>&nbsp;</p><p>&nbsp;</p><p>&nbsp;</p><p>&nbsp;</
 p> <a href="https://www.ski-weilheim.de/index.php/termine/terminejvevent/ev
 entdetail/730/-/6-7-ziener-cup?tmpl=component">Dieser Event wurde importier
 t von: https://www.ski-weilheim.de/index.php/termine/terminejvevent/eventde
 tail/730/-/6-7-ziener-cup?tmpl=component</a>X-EXTRAINFO:anmelden (index.php/?option=com_visforms&amp;view=visforms&amp;id=9&amp;for
 m9rennendatum=24.02.2024&amp;form9nenngeld=14&amp;form9rennenname=6. Ziener
 cup)
DTSTAMP:20260421T054256
DTSTART;VALUE=DATE:20240224
DTEND;VALUE=DATE:20240225
SEQUENCE:0
TRANSP:OPAQUE
END:VEVENT
END:VCALENDAR