BEGIN:VCALENDAR
VERSION:2.0
PRODID:-//jEvents 2.0 for Joomla//EN
CALSCALE:GREGORIAN
METHOD:PUBLISH
BEGIN:VEVENT
UID:6e44f0f3395e6c0b335016a6a31a95bb
CATEGORIES:Vereinsveranstaltung
CREATED:20170424T172827
SUMMARY:Wintersportbasar 2017
URL;VALUE=URI:https://www.ski-weilheim.de/index.php/termine/terminejvevent/eventdetail/73
 /-/wintersportbasar-2017?tmpl=component
DESCRIPTION: <a href="https://www.ski-weilheim.de/index.php/termine/terminejvevent/even
 tdetail/73/-/wintersportbasar-2017?tmpl=component">Dieser Event wurde impor
 tiert von: https://www.ski-weilheim.de/index.php/termine/terminejvevent/eve
 ntdetail/73/-/wintersportbasar-2017?tmpl=component</a>DTSTAMP:20260421T102928
DTSTART:20171118T090000
DTEND:20171118T113000
SEQUENCE:0
TRANSP:OPAQUE
END:VEVENT
END:VCALENDAR