BEGIN:VCALENDAR
VERSION:2.0
PRODID:-//jEvents 2.0 for Joomla//EN
CALSCALE:GREGORIAN
METHOD:PUBLISH
BEGIN:VEVENT
UID:3b19cb594a07b12e36f3d138d02b70a2
CATEGORIES:Vereinsveranstaltung
CREATED:20170424T172716
SUMMARY:Wintersportbasar 2017 (Annahme)
URL;VALUE=URI:https://www.ski-weilheim.de/index.php/termine/terminejvevent/eventdetail/72
 /-/wintersportbasar-2017-annahme?tmpl=component
DESCRIPTION: <a href="https://www.ski-weilheim.de/index.php/termine/terminejvevent/even
 tdetail/72/-/wintersportbasar-2017-annahme?tmpl=component">Dieser Event wur
 de importiert von: https://www.ski-weilheim.de/index.php/termine/terminejve
 vent/eventdetail/72/-/wintersportbasar-2017-annahme?tmpl=component</a>DTSTAMP:20260421T132510
DTSTART:20171117T160000
DTEND:20171117T190000
SEQUENCE:0
TRANSP:OPAQUE
END:VEVENT
END:VCALENDAR