BEGIN:VCALENDAR
VERSION:2.0
PRODID:-//jEvents 2.0 for Joomla//EN
CALSCALE:GREGORIAN
METHOD:PUBLISH
BEGIN:VEVENT
UID:f48df0efcd4b648c61ae4ae46fa7cba3
CATEGORIES:Kinderrennen
CREATED:20240207T092656
SUMMARY:Schongauer Zwergerlrennen
LOCATION:Steckenberg Unterammergau
URL;VALUE=URI:https://www.ski-weilheim.de/index.php/termine/terminejvevent/eventdetail/71
 8/-/schongauer-zwergerlrennen?tmpl=component
DESCRIPTION:<p><strong>Schongauer Zwergerlrennen</strong></p><p>Kinderrennen für die Ja
 hrgänge 2019 bis 2012</p><p>Rennbeginn: 10:00 Uhr kurze Strecke für Jahrgan
 g 2017 und jünger</p><p>Lange Strecke ab ca. 12:15 Uhr</p><p>&nbsp;</p><p><
 strong>Anmeldung über die Homepage</strong></p><p><em>Keine Rennbetreuung</
 em></p> <a href="https://www.ski-weilheim.de/index.php/termine/terminejveve
 nt/eventdetail/718/-/schongauer-zwergerlrennen?tmpl=component">Dieser Event
  wurde importiert von: https://www.ski-weilheim.de/index.php/termine/termin
 ejvevent/eventdetail/718/-/schongauer-zwergerlrennen?tmpl=component</a>X-EXTRAINFO:anmelden (index.php/?option=com_visforms&amp;view=visforms&amp;id=9&amp;for
 m9rennendatum=18.02.2024&amp;form9nenngeld=12&amp;form9rennenname=Zwergerlr
 ennen)
DTSTAMP:20260421T055139
DTSTART;VALUE=DATE:20240218
DTEND;VALUE=DATE:20240219
SEQUENCE:0
TRANSP:OPAQUE
END:VEVENT
END:VCALENDAR