BEGIN:VCALENDAR
VERSION:2.0
PRODID:-//jEvents 2.0 for Joomla//EN
CALSCALE:GREGORIAN
METHOD:PUBLISH
BEGIN:VEVENT
UID:8a96d93bdd28f247a23d24336213ef6b
CATEGORIES:Zienercup
CREATED:20240204T124754
SUMMARY:4. & 5. Ziener-Cup
LOCATION:Gudiberg / GAP
URL;VALUE=URI:https://www.ski-weilheim.de/index.php/termine/terminejvevent/eventdetail/71
 6/-/4-5-ziener-cup?tmpl=component
DESCRIPTION:4. &amp; 5 Ziener-Cup am Gudiberg\nVielseitigkeitslalom\n1 Rennen für Jahrg
 änge 2015/16\n2 Rennen für die Jahrgänge 2012/13/14\n Veranstalter: SC Part
 enkirchen\n \n \n \n Dieser Event wurde importiert von: https://www.ski-wei
 lheim.de/index.php/termine/terminejvevent/eventdetail/716/-/4-5-ziener-cup?
 tmpl=component
X-ALT-DESC;FMTTYPE=text/html:<p>4. &amp; 5 Ziener-Cup am Gudiberg</p><p>Vielseitigkeitslalom</p><p>1 Ren
 nen für Jahrgänge 2015/16</p><p><span style="caret-color: auto;">2 Rennen f
 ür die Jahrgänge 2012/13/14</span></p><p>&nbsp;Veranstalter: SC Partenkirch
 en</p><p>&nbsp;</p><p>&nbsp;</p><p>&nbsp;</p> <a href="https://www.ski-weil
 heim.de/index.php/termine/terminejvevent/eventdetail/716/-/4-5-ziener-cup?t
 mpl=component">Dieser Event wurde importiert von: https://www.ski-weilheim.
 de/index.php/termine/terminejvevent/eventdetail/716/-/4-5-ziener-cup?tmpl=c
 omponent</a>X-EXTRAINFO:anmelden (index.php/?option=com_visforms&amp;view=visforms&amp;id=9&amp;for
 m9rennendatum=10.02.2024&amp;form9nenngeld=14&amp;form9rennenname=4. Ziener
 cup)
DTSTAMP:20260421T090319
DTSTART;VALUE=DATE:20240210
DTEND;VALUE=DATE:20240211
SEQUENCE:0
TRANSP:OPAQUE
END:VEVENT
END:VCALENDAR