BEGIN:VCALENDAR
VERSION:2.0
PRODID:-//jEvents 2.0 for Joomla//EN
CALSCALE:GREGORIAN
METHOD:PUBLISH
BEGIN:VEVENT
UID:3581caca60fa1a547ff1f2e4bf736525
CATEGORIES:Zienercup
CREATED:20231229T171744
SUMMARY:4. & 5. Ziener-Cup
LOCATION:Kühtai Österreich
URL;VALUE=URI:https://www.ski-weilheim.de/index.php/termine/terminejvevent/eventdetail/70
 4/-/4-5-ziener-cup?tmpl=component
DESCRIPTION:<p>4. &amp; 5 Ziener-Cup im Kühtai</p><p>Slalom am Alpenrosenlift</p><p>für
  die Jahrgänge 2016 bis 2012</p><p>&nbsp;Veranstalter: TSV Tutzing</p><p>&n
 bsp;</p><p>&nbsp;</p><p>&nbsp;</p> <a href="https://www.ski-weilheim.de/ind
 ex.php/termine/terminejvevent/eventdetail/704/-/4-5-ziener-cup?tmpl=compone
 nt">Dieser Event wurde importiert von: https://www.ski-weilheim.de/index.ph
 p/termine/terminejvevent/eventdetail/704/-/4-5-ziener-cup?tmpl=component</a
 >X-EXTRAINFO:anmelden (index.php/?option=com_visforms&amp;view=visforms&amp;id=9&amp;for
 m9rennendatum=14.01.2024&amp;form9nenngeld=14&amp;form9rennenname=4. Ziener
 cup)
DTSTAMP:20260421T172513
DTSTART;VALUE=DATE:20240114
DTEND;VALUE=DATE:20240115
SEQUENCE:0
TRANSP:OPAQUE
END:VEVENT
END:VCALENDAR