BEGIN:VCALENDAR
VERSION:2.0
PRODID:-//jEvents 2.0 for Joomla//EN
CALSCALE:GREGORIAN
METHOD:PUBLISH
BEGIN:VEVENT
UID:3ae1dfa586b7f8ed2957c3fc4caa736e
CATEGORIES:Zienercup
CREATED:20231229T171557
SUMMARY:2. & 3. Ziener-Cup
LOCATION:Kühtai Österreich
URL;VALUE=URI:https://www.ski-weilheim.de/index.php/termine/terminejvevent/eventdetail/70
 2/-/2-3-ziener-cup?tmpl=component
DESCRIPTION:<p>2. &amp; 3. Ziener-Cup im Kühtai</p><p>Riesenslalom am Alpenrosenlift</p
 ><p>für die Jahrgänge 2016 bis 2012</p><p>&nbsp;Veranstalter: TSV Tutzing</
 p><p>&nbsp;</p><p>&nbsp;</p><p>&nbsp;</p> <a href="https://www.ski-weilheim
 .de/index.php/termine/terminejvevent/eventdetail/702/-/2-3-ziener-cup?tmpl=
 component">Dieser Event wurde importiert von: https://www.ski-weilheim.de/i
 ndex.php/termine/terminejvevent/eventdetail/702/-/2-3-ziener-cup?tmpl=compo
 nent</a>X-EXTRAINFO:anmelden (index.php/?option=com_visforms&amp;view=visforms&amp;id=9&amp;for
 m9rennendatum=13.01.2024&amp;form9nenngeld=14&amp;form9rennenname=2. Ziener
 cup)
DTSTAMP:20260421T113013
DTSTART;VALUE=DATE:20240113
DTEND;VALUE=DATE:20240114
SEQUENCE:0
TRANSP:OPAQUE
END:VEVENT
END:VCALENDAR