BEGIN:VCALENDAR
VERSION:2.0
PRODID:-//jEvents 2.0 for Joomla//EN
CALSCALE:GREGORIAN
METHOD:PUBLISH
BEGIN:VEVENT
UID:fca6bb8aab21c94767f88dbe33f742d7
CATEGORIES:Zienercup
CREATED:20231229T171243
SUMMARY:1. Ziener-Cup
LOCATION:Kranzberg Luttensee 
URL;VALUE=URI:https://www.ski-weilheim.de/index.php/termine/terminejvevent/eventdetail/70
 1/-/1-ziener-cup?tmpl=component
DESCRIPTION:1. Ziener-Cup in Mittenwald\nRiesenslalom am Kranzberg\nfür die Jahrgänge 2
 016 bis 2012\nVeranstalter: Skigau Werdenfels\n \n \n \n Dieser Event wurde
  importiert von: https://www.ski-weilheim.de/index.php/termine/terminejveve
 nt/eventdetail/701/-/1-ziener-cup?tmpl=component
X-ALT-DESC;FMTTYPE=text/html:<p>1. Ziener-Cup in Mittenwald</p><p>Riesenslalom am Kranzberg</p><p>für di
 e Jahrgänge 2016 bis 2012</p><p>Veranstalter: Skigau Werdenfels</p><p>&nbsp
 ;</p><p>&nbsp;</p><p>&nbsp;</p> <a href="https://www.ski-weilheim.de/index.
 php/termine/terminejvevent/eventdetail/701/-/1-ziener-cup?tmpl=component">D
 ieser Event wurde importiert von: https://www.ski-weilheim.de/index.php/ter
 mine/terminejvevent/eventdetail/701/-/1-ziener-cup?tmpl=component</a>X-EXTRAINFO:anmelden (index.php/?option=com_visforms&amp;view=visforms&amp;id=9&amp;for
 m9rennendatum=07.01.2024&amp;form9nenngeld=12&amp;form9rennenname=1. Ziener
 cup)
DTSTAMP:20260421T054311
DTSTART;VALUE=DATE:20240107
DTEND;VALUE=DATE:20240108
SEQUENCE:0
TRANSP:OPAQUE
END:VEVENT
END:VCALENDAR