BEGIN:VCALENDAR
VERSION:2.0
PRODID:-//jEvents 2.0 for Joomla//EN
CALSCALE:GREGORIAN
METHOD:PUBLISH
BEGIN:VEVENT
UID:15f8077fa7b77ce640256d4b65e92b15
CATEGORIES:Kinderrennen
CREATED:20231212T173340
SUMMARY:Mittenwalder Zwergerlrennen
LOCATION:Rosshütte / Seefeld
URL;VALUE=URI:https://www.ski-weilheim.de/index.php/termine/terminejvevent/eventdetail/69
 4/-/mittenwalder-zwergerlrennen?tmpl=component
DESCRIPTION:<p><strong>Mittenwalder Zwergerlrennen</strong></p><p>Kinderrennen für die 
 Jahrgänge 2019 bis 2008</p><p>Rennbeginn: 10:30 Uhr </p><p>Besichtigung: 9:
 45 bis 10:15 Uhr</p><p><strong>Anmeldung über die Homepage</strong></p><p><
 em>Keine Rennbetreuung</em></p> <a href="https://www.ski-weilheim.de/index.
 php/termine/terminejvevent/eventdetail/694/-/mittenwalder-zwergerlrennen?tm
 pl=component">Dieser Event wurde importiert von: https://www.ski-weilheim.d
 e/index.php/termine/terminejvevent/eventdetail/694/-/mittenwalder-zwergerlr
 ennen?tmpl=component</a>X-EXTRAINFO:anmelden (index.php/?option=com_visforms&amp;view=visforms&amp;id=9&amp;for
 m9rennendatum=24.02.2024&amp;form9nenngeld=12&amp;form9rennenname=Zwergerlr
 ennen)
DTSTAMP:20260421T055024
DTSTART;VALUE=DATE:20240224
DTEND;VALUE=DATE:20240225
SEQUENCE:0
TRANSP:OPAQUE
END:VEVENT
END:VCALENDAR