BEGIN:VCALENDAR
VERSION:2.0
PRODID:-//jEvents 2.0 for Joomla//EN
CALSCALE:GREGORIAN
METHOD:PUBLISH
BEGIN:VEVENT
UID:790e2c6de6098544166bf75ca426639a
CATEGORIES:Kreiscup
CREATED:20170227T153041
SUMMARY:Gesamtsiegerehrung Kreiscup
LOCATION:Schloßberghalle Peiting
URL;VALUE=URI:https://www.ski-weilheim.de/index.php/termine/terminejvevent/eventdetail/69
 /-/gesamtsiegerehrung-kreiscup?tmpl=component
DESCRIPTION: <a href="https://www.ski-weilheim.de/index.php/termine/terminejvevent/even
 tdetail/69/-/gesamtsiegerehrung-kreiscup?tmpl=component">Dieser Event wurde
  importiert von: https://www.ski-weilheim.de/index.php/termine/terminejveve
 nt/eventdetail/69/-/gesamtsiegerehrung-kreiscup?tmpl=component</a>DTSTAMP:20260421T115036
DTSTART:20170506T140000
DTEND:20170506T170000
SEQUENCE:0
TRANSP:OPAQUE
END:VEVENT
END:VCALENDAR