BEGIN:VCALENDAR
VERSION:2.0
PRODID:-//jEvents 2.0 for Joomla//EN
CALSCALE:GREGORIAN
METHOD:PUBLISH
BEGIN:VEVENT
UID:26ef334fe85bb3c450b6dbd3e856b747
CATEGORIES:Kinderrennen
CREATED:20231128T162304
SUMMARY:Werdenfelser Kinderskitag
LOCATION:Garmisch Partenkirchen
URL;VALUE=URI:https://www.ski-weilheim.de/index.php/termine/terminejvevent/eventdetail/68
 6/-/werdenfelser-kinderskitag?tmpl=component
DESCRIPTION:Werdenfelser Kinderskitag\nFür  die Jahrgänge 2019 bis 2008 \nEine Doppelme
 ldung für BZB und Werdenfelser Kinderskitag ist nicht möglich\nAlle Details
  und Uhrzeiten findet ihr in der Ausschreibung unter rennmeldung.de\nGenaue
  Informationen zum Treffpunkt bekommt ihr noch kurzfristig\n \n Dieser Even
 t wurde importiert von: https://www.ski-weilheim.de/index.php/termine/termi
 nejvevent/eventdetail/686/-/werdenfelser-kinderskitag?tmpl=component (https
 ://www.ski-weilheim.de/index.php/termine/terminejvevent/eventdetail/686/-/w
 erdenfelser-kinderskitag?tmpl=component)
X-ALT-DESC;FMTTYPE=text/html:<p><em><strong>Werdenfelser Kinderskitag</strong></em></p><p><em>Für&nbsp; 
 die </em>Jahrgänge 2019 bis 2008 </p><p>Eine Doppelmeldung für BZB und Werd
 enfelser Kinderskitag ist nicht möglich</p><p>Alle Details und Uhrzeiten fi
 ndet ihr in der Ausschreibung unter rennmeldung.de</p><p>Genaue Information
 en zum Treffpunkt bekommt ihr noch kurzfristig</p><p>&nbsp;</p> <a href="ht
 tps://www.ski-weilheim.de/index.php/termine/terminejvevent/eventdetail/686/
 -/werdenfelser-kinderskitag?tmpl=component">Dieser Event wurde importiert v
 on: https://www.ski-weilheim.de/index.php/termine/terminejvevent/eventdetai
 l/686/-/werdenfelser-kinderskitag?tmpl=component</a>X-EXTRAINFO:anmelden (index.php/?option=com_visforms&amp;view=visforms&amp;id=9&amp;for
 m9rennendatum=03.03.2024&amp;form9nenngeld=14&amp;form9rennenname=Werdenfel
 ser Kinderskitag)
DTSTAMP:20260421T113041
DTSTART;VALUE=DATE:20240303
DTEND;VALUE=DATE:20240304
SEQUENCE:0
TRANSP:OPAQUE
END:VEVENT
END:VCALENDAR