BEGIN:VCALENDAR
VERSION:2.0
PRODID:-//jEvents 2.0 for Joomla//EN
CALSCALE:GREGORIAN
METHOD:PUBLISH
BEGIN:VEVENT
UID:267dade5e5c52e2be9649cc475cb2efe
CATEGORIES:BZB-Cup
CREATED:20231128T161827
SUMMARY:7. BZB-Cup
LOCATION:Garmisch Classic
URL;VALUE=URI:https://www.ski-weilheim.de/index.php/termine/terminejvevent/eventdetail/68
 5/-/7-bzb-cup?tmpl=component
DESCRIPTION:<p>7. BZB Rennen</p><p>Riesenslalom auf der Kandahar</p><p>Interner Meldesc
 hluss: 27.02.&nbsp; 18:00 Uhr</p> <a href="https://www.ski-weilheim.de/inde
 x.php/termine/terminejvevent/eventdetail/685/-/7-bzb-cup?tmpl=component">Di
 eser Event wurde importiert von: https://www.ski-weilheim.de/index.php/term
 ine/terminejvevent/eventdetail/685/-/7-bzb-cup?tmpl=component</a>X-EXTRAINFO:anmelden (index.php/?option=com_visforms&amp;view=visforms&amp;id=9&amp;for
 m9rennendatum=03.03.2024&amp;form9nenngeld=12&amp;form9rennenname=7. BZB RS
  )
DTSTAMP:20260421T114931
DTSTART;VALUE=DATE:20240303
DTEND;VALUE=DATE:20240304
SEQUENCE:0
TRANSP:OPAQUE
END:VEVENT
END:VCALENDAR