BEGIN:VCALENDAR
VERSION:2.0
PRODID:-//jEvents 2.0 for Joomla//EN
CALSCALE:GREGORIAN
METHOD:PUBLISH
BEGIN:VEVENT
UID:039859aaa107c30e30891c716edc2ac6
CATEGORIES:BZB-Cup
CREATED:20231128T161712
SUMMARY:6. BZB-Cup
LOCATION:Garmisch Classic
URL;VALUE=URI:https://www.ski-weilheim.de/index.php/termine/terminejvevent/eventdetail/68
 4/-/6-bzb-cup?tmpl=component
DESCRIPTION:6. BZB Rennen und Werdenfelser Meisterschaft\nRiesenslalom auf der Kandahar
 \nInterner Meldeschluss: 27.02.  18:00 Uhr\n Dieser Event wurde importiert 
 von: https://www.ski-weilheim.de/index.php/termine/terminejvevent/eventdeta
 il/684/-/6-bzb-cup?tmpl=component (https://www.ski-weilheim.de/index.php/te
 rmine/terminejvevent/eventdetail/684/-/6-bzb-cup?tmpl=component)
X-ALT-DESC;FMTTYPE=text/html:<p>6. BZB Rennen und Werdenfelser Meisterschaft</p><p>Riesenslalom auf der 
 Kandahar</p><p>Interner Meldeschluss: 27.02.&nbsp; 18:00 Uhr</p> <a href="h
 ttps://www.ski-weilheim.de/index.php/termine/terminejvevent/eventdetail/684
 /-/6-bzb-cup?tmpl=component">Dieser Event wurde importiert von: https://www
 .ski-weilheim.de/index.php/termine/terminejvevent/eventdetail/684/-/6-bzb-c
 up?tmpl=component</a>X-EXTRAINFO:anmelden (index.php/?option=com_visforms&amp;view=visforms&amp;id=9&amp;for
 m9rennendatum=02.03.2024&amp;form9nenngeld=12&amp;form9rennenname=6. BZB RS
  )
DTSTAMP:20260421T115436
DTSTART;VALUE=DATE:20240302
DTEND;VALUE=DATE:20240303
SEQUENCE:0
TRANSP:OPAQUE
END:VEVENT
END:VCALENDAR