BEGIN:VCALENDAR
VERSION:2.0
PRODID:-//jEvents 2.0 for Joomla//EN
CALSCALE:GREGORIAN
METHOD:PUBLISH
BEGIN:VEVENT
UID:47aa858a78451f86263278035c9d2d0e
CATEGORIES:BZB-Cup
CREATED:20231128T161550
SUMMARY:5. BZB-Cup
LOCATION:Gudiberg / Partenkirchen
URL;VALUE=URI:https://www.ski-weilheim.de/index.php/termine/terminejvevent/eventdetail/68
 3/-/5-bzb-cup?tmpl=component
DESCRIPTION:5. BZB Rennen\nSlalom am Gudiberg\n \nInterner Meldeschluss: 11.02.  18:00 
 Uhr\n Dieser Event wurde importiert von: https://www.ski-weilheim.de/index.
 php/termine/terminejvevent/eventdetail/683/-/5-bzb-cup?tmpl=component (http
 s://www.ski-weilheim.de/index.php/termine/terminejvevent/eventdetail/683/-/
 5-bzb-cup?tmpl=component)
X-ALT-DESC;FMTTYPE=text/html:<p>5. BZB Rennen</p><p>Slalom am Gudiberg</p><p>&nbsp;</p><p>Interner Melde
 schluss: 11.02.&nbsp; 18:00 Uhr</p> <a href="https://www.ski-weilheim.de/in
 dex.php/termine/terminejvevent/eventdetail/683/-/5-bzb-cup?tmpl=component">
 Dieser Event wurde importiert von: https://www.ski-weilheim.de/index.php/te
 rmine/terminejvevent/eventdetail/683/-/5-bzb-cup?tmpl=component</a>X-EXTRAINFO:anmelden (index.php/?option=com_visforms&amp;view=visforms&amp;id=9&amp;for
 m9rennendatum=14.02.2024&amp;form9nenngeld=12&amp;form9rennenname=5. BZB SL
  )
DTSTAMP:20260421T065323
DTSTART;VALUE=DATE:20240214
DTEND;VALUE=DATE:20240215
SEQUENCE:0
TRANSP:OPAQUE
END:VEVENT
END:VCALENDAR