BEGIN:VCALENDAR
VERSION:2.0
PRODID:-//jEvents 2.0 for Joomla//EN
CALSCALE:GREGORIAN
METHOD:PUBLISH
BEGIN:VEVENT
UID:44d221e21ded36a2bdc28ebb38bfecd2
CATEGORIES:BZB-Cup
CREATED:20231128T161423
SUMMARY:4. BZB-Cup
LOCATION:Garmisch Partenkirchen
URL;VALUE=URI:https://www.ski-weilheim.de/index.php/termine/terminejvevent/eventdetail/68
 2/-/4-bzb-cup?tmpl=component
DESCRIPTION:<p>4. BZB Rennen</p><p>Slalom am Gudiberg</p><p>Interner Meldeschluss: 07.0
 2.&nbsp; 18:00 Uhr</p> <a href="https://www.ski-weilheim.de/index.php/termi
 ne/terminejvevent/eventdetail/682/-/4-bzb-cup?tmpl=component">Dieser Event 
 wurde importiert von: https://www.ski-weilheim.de/index.php/termine/termine
 jvevent/eventdetail/682/-/4-bzb-cup?tmpl=component</a>X-EXTRAINFO:anmelden (index.php/?option=com_visforms&amp;view=visforms&amp;id=9&amp;for
 m9rennendatum=11.02.2024&amp;form9nenngeld=12&amp;form9rennenname=4. BZB SL
  )
DTSTAMP:20260421T055119
DTSTART;VALUE=DATE:20240211
DTEND;VALUE=DATE:20240212
SEQUENCE:0
TRANSP:OPAQUE
END:VEVENT
END:VCALENDAR