BEGIN:VCALENDAR
VERSION:2.0
PRODID:-//jEvents 2.0 for Joomla//EN
CALSCALE:GREGORIAN
METHOD:PUBLISH
BEGIN:VEVENT
UID:e2b914ae44230d1f6b4e22c5d6ba0c3b
CATEGORIES:BZB-Cup
CREATED:20231128T161243
SUMMARY:3. BZB-Cup
LOCATION:Gudiberg / Garmisch Partenkirchen
URL;VALUE=URI:https://www.ski-weilheim.de/index.php/termine/terminejvevent/eventdetail/68
 1/-/3-bzb-cup?tmpl=component
DESCRIPTION:3. BZB Rennen\nRiesenslalom in Garmisch am Gudiberg\nInterner Meldeschluss:
  21.01.  18:00 Uhr \n Dieser Event wurde importiert von: https://www.ski-we
 ilheim.de/index.php/termine/terminejvevent/eventdetail/681/-/3-bzb-cup?tmpl
 =component
X-ALT-DESC;FMTTYPE=text/html:<p>3. BZB Rennen</p><p>Riesenslalom in Garmisch am Gudiberg</p><p>Interner 
 Meldeschluss: 21.01.&nbsp; 18:00 Uhr&nbsp;</p> <a href="https://www.ski-wei
 lheim.de/index.php/termine/terminejvevent/eventdetail/681/-/3-bzb-cup?tmpl=
 component">Dieser Event wurde importiert von: https://www.ski-weilheim.de/i
 ndex.php/termine/terminejvevent/eventdetail/681/-/3-bzb-cup?tmpl=component<
 /a>X-EXTRAINFO:anmelden (index.php/?option=com_visforms&amp;view=visforms&amp;id=9&amp;for
 m9rennendatum=24.01.2024&amp;form9nenngeld=14&amp;form9rennenname=3. BZB RS
  )
DTSTAMP:20260421T065333
DTSTART;VALUE=DATE:20240124
DTEND;VALUE=DATE:20240125
SEQUENCE:0
TRANSP:OPAQUE
END:VEVENT
END:VCALENDAR