BEGIN:VCALENDAR
VERSION:2.0
PRODID:-//jEvents 2.0 for Joomla//EN
CALSCALE:GREGORIAN
METHOD:PUBLISH
BEGIN:VEVENT
UID:826dcfcddc31f66dd490b6dabc08bd29
CATEGORIES:BZB-Cup
CREATED:20231128T161057
SUMMARY:2. BZB-Cup
LOCATION:Kühtai / Tirol
URL;VALUE=URI:https://www.ski-weilheim.de/index.php/termine/terminejvevent/eventdetail/68
 0/-/2-bzb-cup?tmpl=component
DESCRIPTION:<p>2. BZB Rennen</p><p>Slalom in Kühtai am Alpenrosenlift</p><p>&nbsp;</p><
 p>Interner Meldeschluss Mittwoch 2.1. 18:00 Uhr</p> <a href="https://www.sk
 i-weilheim.de/index.php/termine/terminejvevent/eventdetail/680/-/2-bzb-cup?
 tmpl=component">Dieser Event wurde importiert von: https://www.ski-weilheim
 .de/index.php/termine/terminejvevent/eventdetail/680/-/2-bzb-cup?tmpl=compo
 nent</a>X-EXTRAINFO:anmelden (index.php/?option=com_visforms&amp;view=visforms&amp;id=9&amp;for
 m9rennendatum=07.01.2024&amp;form9nenngeld=14&amp;form9rennenname=2. BZB SL
  )
DTSTAMP:20260421T142906
DTSTART;VALUE=DATE:20240107
DTEND;VALUE=DATE:20240108
SEQUENCE:0
TRANSP:OPAQUE
END:VEVENT
END:VCALENDAR