BEGIN:VCALENDAR
VERSION:2.0
PRODID:-//jEvents 2.0 for Joomla//EN
CALSCALE:GREGORIAN
METHOD:PUBLISH
BEGIN:VEVENT
UID:303a20d817d2f243e0dbc211374776a9
CATEGORIES:Vereinsveranstaltung
CREATED:20170222T111253
SUMMARY:Skiabteilung Mitgliederversammlung
LOCATION:TSV Heim Pollingerstraße
URL;VALUE=URI:https://www.ski-weilheim.de/index.php/termine/terminejvevent/eventdetail/68
 /-/skiabteilung-mitgliederversammlung?tmpl=component
DESCRIPTION: <a href="https://www.ski-weilheim.de/index.php/termine/terminejvevent/even
 tdetail/68/-/skiabteilung-mitgliederversammlung?tmpl=component">Dieser Even
 t wurde importiert von: https://www.ski-weilheim.de/index.php/termine/termi
 nejvevent/eventdetail/68/-/skiabteilung-mitgliederversammlung?tmpl=componen
 t</a>DTSTAMP:20260421T102923
DTSTART:20170425T193000
DTEND:20170425T220000
SEQUENCE:0
TRANSP:OPAQUE
END:VEVENT
END:VCALENDAR