BEGIN:VCALENDAR
VERSION:2.0
PRODID:-//jEvents 2.0 for Joomla//EN
CALSCALE:GREGORIAN
METHOD:PUBLISH
BEGIN:VEVENT
UID:72cfd0fa94ad9a1152f9646896a7ac37
CATEGORIES:BZB-Cup
CREATED:20231128T160641
SUMMARY:1. BZB-Cup
LOCATION:Kühtai / Tirol
URL;VALUE=URI:https://www.ski-weilheim.de/index.php/termine/terminejvevent/eventdetail/67
 9/-/1-bzb-cup?tmpl=component
DESCRIPTION:<p>1. BZB Rennen</p><p>Riesenslalom in Kühtai am Alpenrosenlift</p><p>Inter
 ner Meldeschluss Mittwoch 02.01.22</p> <a href="https://www.ski-weilheim.de
 /index.php/termine/terminejvevent/eventdetail/679/-/1-bzb-cup?tmpl=componen
 t">Dieser Event wurde importiert von: https://www.ski-weilheim.de/index.php
 /termine/terminejvevent/eventdetail/679/-/1-bzb-cup?tmpl=component</a>X-EXTRAINFO:anmelden (index.php/?option=com_visforms&amp;view=visforms&amp;id=9&amp;for
 m9rennendatum=06.01.2024&amp;form9nenngeld=14&amp;form9rennenname=1. BZB RS
  )
DTSTAMP:20260421T042524
DTSTART;VALUE=DATE:20240106
DTEND;VALUE=DATE:20240107
SEQUENCE:0
TRANSP:OPAQUE
END:VEVENT
END:VCALENDAR