BEGIN:VCALENDAR
VERSION:2.0
PRODID:-//jEvents 2.0 for Joomla//EN
CALSCALE:GREGORIAN
METHOD:PUBLISH
BEGIN:VEVENT
UID:d67a012544176d6309d8b0802b09717d
CATEGORIES:Kreiscup
CREATED:20231128T160305
SUMMARY:2. Kreiscup
LOCATION:Leutasch
URL;VALUE=URI:https://www.ski-weilheim.de/index.php/termine/terminejvevent/eventdetail/67
 8/-/2-kreiscup?tmpl=component
DESCRIPTION:Riesenslalom in Leutasch am Kreithlift\nVeranstalter SC Peiting / SC Schong
 au\nStart 10:00 Uhr\nStartnummern Abholung ab 8:45 Uhr\nBesichtigung: 9:00 
 Uhr bis 9:30 Uhr\n Dieser Event wurde importiert von: https://www.ski-weilh
 eim.de/index.php/termine/terminejvevent/eventdetail/678/-/2-kreiscup?tmpl=c
 omponent (https://www.ski-weilheim.de/index.php/termine/terminejvevent/even
 tdetail/678/-/2-kreiscup?tmpl=component)
X-ALT-DESC;FMTTYPE=text/html:<p>Riesenslalom in Leutasch am Kreithlift</p><p>Veranstalter SC Peiting / S
 C Schongau</p><p>Start 10:00 Uhr</p><p>Startnummern Abholung ab 8:45 Uhr</p
 ><p>Besichtigung: 9:00 Uhr bis 9:30 Uhr</p> <a href="https://www.ski-weilhe
 im.de/index.php/termine/terminejvevent/eventdetail/678/-/2-kreiscup?tmpl=co
 mponent">Dieser Event wurde importiert von: https://www.ski-weilheim.de/ind
 ex.php/termine/terminejvevent/eventdetail/678/-/2-kreiscup?tmpl=component</
 a>X-EXTRAINFO:anmelden (index.php/?option=com_visforms&amp;view=visforms&amp;id=9&amp;for
 m9rennendatum=17.02.2024&amp;form9rennenname=2. Kreiscup&amp;form9nenngeld=
 12)
DTSTAMP:20260421T131800
DTSTART;VALUE=DATE:20240217
DTEND;VALUE=DATE:20240218
SEQUENCE:0
TRANSP:OPAQUE
END:VEVENT
END:VCALENDAR