BEGIN:VCALENDAR
VERSION:2.0
PRODID:-//jEvents 2.0 for Joomla//EN
CALSCALE:GREGORIAN
METHOD:PUBLISH
BEGIN:VEVENT
UID:d7994d985cec29c6754d51908f4bf332
CATEGORIES:Kreiscup
CREATED:20231128T155941
SUMMARY:1. Kreiscup
LOCATION:Wettersteinbahn / Ehrwald
URL;VALUE=URI:https://www.ski-weilheim.de/index.php/termine/terminejvevent/eventdetail/67
 7/-/1-kreiscup?tmpl=component
DESCRIPTION:<p>Riesenslalom in Ehrwald an der Wettersteinbahn</p><p>Start: 10:00 Uhr</p
 ><p>Besichtigung: 9:00 - 9:30 Uhr</p><p>Liftbetrieb ab 8:30 Uhr</p><p>Veran
 stalter SC Murnau</p><p>&nbsp;</p><p>&nbsp;</p><p>&nbsp;</p> <a href="https
 ://www.ski-weilheim.de/index.php/termine/terminejvevent/eventdetail/677/-/1
 -kreiscup?tmpl=component">Dieser Event wurde importiert von: https://www.sk
 i-weilheim.de/index.php/termine/terminejvevent/eventdetail/677/-/1-kreiscup
 ?tmpl=component</a>X-EXTRAINFO:anmelden (index.php/?option=com_visforms&amp;view=visforms&amp;id=9&amp;for
 m9rennendatum=28.01.2024&amp;form9rennenname=1. Kreiscup&amp;form9nenngeld=
 12)
DTSTAMP:20260421T042354
DTSTART;VALUE=DATE:20240128
DTEND;VALUE=DATE:20240129
SEQUENCE:0
TRANSP:OPAQUE
END:VEVENT
END:VCALENDAR