BEGIN:VCALENDAR
VERSION:2.0
PRODID:-//jEvents 2.0 for Joomla//EN
CALSCALE:GREGORIAN
METHOD:PUBLISH
BEGIN:VEVENT
UID:f316b0ddfa8cc9701482d8dca1ada0a1
CATEGORIES:Kinderrennen
CREATED:20231128T155523
SUMMARY:Vereinsmeisterschaft TSV Weilheim
LOCATION:Kreuzwankl / GAP
URL;VALUE=URI:https://www.ski-weilheim.de/index.php/termine/terminejvevent/eventdetail/67
 5/-/vereinsmeisterschaft-tsv-weilheim?tmpl=component
DESCRIPTION:Riesenslalom am Kreuzwankl\n \nfür alle Vereinsmitglieder des TSV Weilheim\
 nKeine Startgebühr\nund gesonderte Wertung für Teilnehmer des TSV Skikurses
 \n \nBei der Vereinsmeisterschaft sind alle Vereinsmitglieder startberechti
 gt, Kinder und Erwachsene.\n Dieser Event wurde importiert von: https://www
 .ski-weilheim.de/index.php/termine/terminejvevent/eventdetail/675/-/vereins
 meisterschaft-tsv-weilheim?tmpl=component (https://www.ski-weilheim.de/inde
 x.php/termine/terminejvevent/eventdetail/675/-/vereinsmeisterschaft-tsv-wei
 lheim?tmpl=component)
X-ALT-DESC;FMTTYPE=text/html:<p>Riesenslalom am Kreuzwankl</p><p>&nbsp;</p><p>für alle Vereinsmitglieder
  des TSV Weilheim</p><p>Keine Startgebühr</p><p>und gesonderte Wertung für 
 Teilnehmer des TSV Skikurses</p><p>&nbsp;</p><p>Bei der Vereinsmeisterschaf
 t sind alle Vereinsmitglieder startberechtigt, Kinder und Erwachsene.</p> <
 a href="https://www.ski-weilheim.de/index.php/termine/terminejvevent/eventd
 etail/675/-/vereinsmeisterschaft-tsv-weilheim?tmpl=component">Dieser Event 
 wurde importiert von: https://www.ski-weilheim.de/index.php/termine/termine
 jvevent/eventdetail/675/-/vereinsmeisterschaft-tsv-weilheim?tmpl=component<
 /a>X-EXTRAINFO:anmelden (index.php/?option=com_visforms&amp;view=visforms&amp;id=9&amp;for
 m9rennendatum=03.02.2024&amp;form9rennenname=Vereinsmeisterschaft 2024&amp;
 )
DTSTAMP:20260421T041724
DTSTART;VALUE=DATE:20240203
DTEND;VALUE=DATE:20240204
SEQUENCE:0
TRANSP:OPAQUE
END:VEVENT
END:VCALENDAR