BEGIN:VCALENDAR
VERSION:2.0
PRODID:-//jEvents 2.0 for Joomla//EN
CALSCALE:GREGORIAN
METHOD:PUBLISH
BEGIN:VEVENT
UID:09e224b91695cc4dfcf9555d2add132d
CATEGORIES:Kreiscup
CREATED:20231128T155340
SUMMARY:3. Kreiscup
LOCATION:Garmisch Partenkirchen
URL;VALUE=URI:https://www.ski-weilheim.de/index.php/termine/terminejvevent/eventdetail/67
 4/-/3-kreiscup?tmpl=component
DESCRIPTION:Riesenslalom Kreuzwankl Garmisch\nVeranstalter TSV Weilheim\n Dieser Event 
 wurde importiert von: https://www.ski-weilheim.de/index.php/termine/termine
 jvevent/eventdetail/674/-/3-kreiscup?tmpl=component (https://www.ski-weilhe
 im.de/index.php/termine/terminejvevent/eventdetail/674/-/3-kreiscup?tmpl=co
 mponent)
X-ALT-DESC;FMTTYPE=text/html:<p>Riesenslalom Kreuzwankl Garmisch</p><p>Veranstalter TSV Weilheim</p> <a 
 href="https://www.ski-weilheim.de/index.php/termine/terminejvevent/eventdet
 ail/674/-/3-kreiscup?tmpl=component">Dieser Event wurde importiert von: htt
 ps://www.ski-weilheim.de/index.php/termine/terminejvevent/eventdetail/674/-
 /3-kreiscup?tmpl=component</a>X-EXTRAINFO:anmelden (index.php/?option=com_visforms&amp;view=visforms&amp;id=9&amp;for
 m9rennendatum=10.03.2024&amp;form9rennenname=3. Kreiscup&amp;form9nenngeld=
 12)
DTSTAMP:20260421T090756
DTSTART;VALUE=DATE:20240310
DTEND;VALUE=DATE:20240311
SEQUENCE:0
TRANSP:OPAQUE
END:VEVENT
END:VCALENDAR